BEGIN:VCALENDAR
VERSION:2.0
PRODID:-//Eglin AFB - ECPv6.15.20//NONSGML v1.0//EN
CALSCALE:GREGORIAN
METHOD:PUBLISH
X-ORIGINAL-URL:https://eglin96fss.com
X-WR-CALDESC:Events for Eglin AFB
REFRESH-INTERVAL;VALUE=DURATION:PT1H
X-Robots-Tag:noindex
X-PUBLISHED-TTL:PT1H
BEGIN:VTIMEZONE
TZID:America/Chicago
BEGIN:DAYLIGHT
TZOFFSETFROM:-0600
TZOFFSETTO:-0500
TZNAME:CDT
DTSTART:20250309T080000
END:DAYLIGHT
BEGIN:STANDARD
TZOFFSETFROM:-0500
TZOFFSETTO:-0600
TZNAME:CST
DTSTART:20251102T070000
END:STANDARD
BEGIN:DAYLIGHT
TZOFFSETFROM:-0600
TZOFFSETTO:-0500
TZNAME:CDT
DTSTART:20260308T080000
END:DAYLIGHT
BEGIN:STANDARD
TZOFFSETFROM:-0500
TZOFFSETTO:-0600
TZNAME:CST
DTSTART:20261101T070000
END:STANDARD
BEGIN:DAYLIGHT
TZOFFSETFROM:-0600
TZOFFSETTO:-0500
TZNAME:CDT
DTSTART:20270314T080000
END:DAYLIGHT
BEGIN:STANDARD
TZOFFSETFROM:-0500
TZOFFSETTO:-0600
TZNAME:CST
DTSTART:20271107T070000
END:STANDARD
END:VTIMEZONE
BEGIN:VEVENT
DTSTART;TZID=America/Chicago:20260501T133000
DTEND;TZID=America/Chicago:20260501T143000
DTSTAMP:20260421T140139
CREATED:20260420T162022Z
LAST-MODIFIED:20260421T172846Z
UID:10035076-1777642200-1777645800@eglin96fss.com
SUMMARY:Gate To Gate National Anthem Singer Tryouts
DESCRIPTION:Share Your Voice: National Anthem Singer Tryouts for the 40th Annual Gate To Gate Memorial Run/Walk \nAre you a talented vocalist with a passion for patriotism? Here’s your chance to shine! Fitness & Sports is looking for a gifted singer to perform the National Anthem at the 40th Anniversary Gate To Gate Memorial Run/Walk on Saturday\, May 16\, 2026. \nTryout Information:\nDate: May 1\, 2026\nTime: 1:30 p.m.\nLocation: Building 2397 (Adjacent to the DDRP building) \nThe chosen singer will have the honor of kicking off the Gate To Gate Memorial Run/Walk with a moving rendition of “The Star-Spangled Banner.” \nThis beloved annual event is a 4.4-mile run/walk that pays tribute to our nation’s fallen heroes. This year marks the 40th anniversary\, and to celebrate\, the event will return to its original gate-to-gate format\, a historic 4.4-mile course across Eglin Air Force Base. The Gate To Gate Memorial Run/Walk is an opportunity for the community to come together and show our unwavering support for the men and women who have dedicated their lives to protecting our country. \nDon’t miss this incredible opportunity to share your talent and honor our nation’s heroes. We look forward to seeing you at the tryouts.
URL:https://eglin96fss.com/event/gtg-national-anthem-tryouts/
LOCATION:Building 2397
CATEGORIES:Aero Club,Airman Leadership School,Auto Hobby Shop,Bayview Community Center,Beach Park,Child Development Center,Civilian Personnel Section,Commercial Sponsorship & Advertising,Education Center,Employment / HRO,FAMCAMP,Family,Family Child Care,Fitness & Sports,Fitness Classes,Food,Fun,Honor Guard,Hot Events,ITT,Legends Sports Grill,Library,M&FRC,Marina,Military Personnel Flight,Outdoor Recreation,Pool,School Age Care,Youth Center
ATTACH;FMTTYPE=image/png:https://eglin96fss.com/wp-content/uploads/2026/04/20260501_FSV_GateToGate_National-Anthem-Auditions_FB_Event-scaled.png
END:VEVENT
END:VCALENDAR